Workbook
Name 交易稅率: '交易紀錄'!$C$4
Name 手續費率: '交易紀錄'!$C$2
Name 手續費折扣: '交易紀錄'!$C$3
Name 配息轉帳費: '交易紀錄'!$C$5

Sheet 資產配置
A1: 群組 | B1: 項目 (顏色說明) | C1: 設定值 | E1: 合計 | H1: =SUM(H4:H6) -> 32142 | I1: =SUM(I4:I6) -> 2684457.6 | J1: =SUM(J4:J6) -> 1 | K1: =SUM(K4:K6) -> 1.278816 | L1: =MIN(L4:L6) -> -0.052284167 | M1: =SUM(M4:M6) -> 0 | N1: =SUM(N4:N6) -> 435 | O1: =SUM(O4:O6) -> -131.64 | P1: =SUM(P4:P6) -> 1794138.6 | Q1: =P1/H1 -> 55.819134 | R1: =SUM(R4:R6) -> 890318.99 | S1: =R1/P1 -> 0.49623758 | T1: =(1+S1)^(1/$C$9)-1 -> 0.077941223
E2: 代碼 | F2: 商品 | G2: 目前 股價 | H2: 庫存 股數 | I2: 庫存 市值 | J2: 目前配置 | M2: 需調整(試算) | P2: 移動 成本 | Q2: 移動 均價 | R2: 損益 | S2: 損益% | T2: 年化%
J3: 佔比 | K3: Beta | L3: 差異 | M3: 投入 | N3: 股數 | O3: 金額
A4: 配置 | B4: ①00662 | C4: 0.4 | E4: 00662 | F4: 富邦NASDAQ | G4: =IFERROR(__xludf.DUMMYFUNCTION("IMPORTXML(""https://histock.tw/stock/""&E4,""//*[@id='Price1_lbTPrice']/span"")"),82.7) -> 82.7 | H4: =SUMIFS('交易紀錄'!H:H,'交易紀錄'!F:F,E4,'交易紀錄'!G:G,"買進")-SUMIFS('交易紀錄'!H:H,'交易紀錄'!F:F,E4,'交易紀錄'!G:G,"賣出") -> 13820 | I4: =G4*H4 -> 1142914 | J4: =I4/$I$1 -> 0.4257523 | K4: =J4 -> 0.4257523 | L4: =J4-C4 -> 0.025752303 | M4: =IFS($C$10=1,0,$C$10=2,0,$C$10=3,-$I$1*L4,$C$10=4,IF(L4=$L$1,$C$11,0),$C$10=5,($C$11+$I$1)*$C$4-I4,TRUE,0) -> 0 | N4: =IF(M4<>0,INT(M4/G4),0) -> 0 | O4: =IF(N4<>0,G4*N4,0) -> 0 | P4: =-SUMIF('交易紀錄'!F:F,'資產配置'!E4,'交易紀錄'!M:M) -> 718657.65 | Q4: =IFERROR(P4/H4,0) -> 52.001277 | R4: =I4-P4 -> 424256.35 | S4: =R4/P4 -> 0.59034556 | T4: =(1+S4)^(1/$C$9)-1 -> 0.090257806
B5: ②00670L | C5: 0.4 | E5: 00670L | F5: 富邦NASDAQ正2 | G5: =IFERROR(__xludf.DUMMYFUNCTION("IMPORTXML(""https://histock.tw/stock/""&E5,""//*[@id='Price1_lbTPrice']/span"")"),121.9) -> 121.9 | H5: =SUMIFS('交易紀錄'!H:H,'交易紀錄'!F:F,E5,'交易紀錄'!G:G,"買進")-SUMIFS('交易紀錄'!H:H,'交易紀錄'!F:F,E5,'交易紀錄'!G:G,"賣出") -> 9393 | I5: =G5*H5 -> 1145006.7 | J5: =I5/$I$1 -> 0.42653186 | K5: =J5*2 -> 0.85306373 | L5: =J5-C5 -> 0.026531864 | M5: =IFS($C$10=1,-SIGN($C$19)*$C$20,$C$10=2,($I5+$I6)*$C$5/($C$5+$C$6)-$I5,$C$10=3,-$I$1*L5,$C$10=4,IF(L5=$L$1,$C$11,0),$C$10=5,($C$11+$I$1)*$C$5-I5,TRUE,0) -> -30475.245 | N5: =IF(M5<>0,INT(M5/G5),0) -> -251 | O5: =IF(N5<>0,G5*N5,0) -> -30596.9 | P5: =-SUMIF('交易紀錄'!F:F,'資產配置'!E5,'交易紀錄'!M:M) -> 717767.71 | Q5: =IFERROR(P5/H5,0) -> 76.415172 | R5: =I5-P5 -> 427238.99 | S5: =R5/P5 -> 0.59523295 | T5: =(1+S5)^(1/$C$9)-1 -> 0.090881088
B6: ③00865B | C6: =1-SUM(C4:C5) -> 0.2 | E6: 00865B | F6: 國泰美國短期公債ETF基金 | G6: =IFERROR(__xludf.DUMMYFUNCTION("IMPORTXML(""https://histock.tw/stock/""&E6,""//*[@id='Price1_lbTPrice']/span"")"),44.41) -> 44.41 | H6: =SUMIFS('交易紀錄'!H:H,'交易紀錄'!F:F,E6,'交易紀錄'!G:G,"買進")-SUMIFS('交易紀錄'!H:H,'交易紀錄'!F:F,E6,'交易紀錄'!G:G,"賣出") -> 8929 | I6: =G6*H6 -> 396536.89 | J6: =I6/$I$1 -> 0.14771583 | K6: 0 | L6: =J6-C6 -> -0.052284167 | M6: =IFS($C$10=1,SIGN($C$19)*$C$20,$C$10=2,($I5+$I6)*$C$6/($C$5+$C$6)-$I6,$C$10=3,-$I$1*L6,$C$10=4,IF(L6=$L$1,$C$11,0),$C$10=5,($C$11+$I$1)*$C$6-I6,TRUE,0) -> 30475.245 | N6: =IF(M6<>0,INT(M6/G6),0) -> 686 | O6: =IF(N6<>0,G6*N6,0) -> 30465.26 | P6: =-SUMIF('交易紀錄'!F:F,'資產配置'!E6,'交易紀錄'!M:M) -> 357713.24 | Q6: =IFERROR(P6/H6,0) -> 40.06196 | R6: =I6-P6 -> 38823.65 | S6: =R6/P6 -> 0.10853289 | T6: =(1+S6)^(1/$C$9)-1 -> 0.019376781
B7: ④Beta | C7: =C4+C5*2 -> 1.2
A8: 投入 | B8: 投資啟日 | C8: 43831
B9: 投資年數 | C9: =DAYS(TODAY(),C8)/365.25 -> 5.3689254
B10: 再平衡方式 | C10: 1
B11: 投入金額 | C11: 30000
A12: 聰明再平衡670L | B12: 上漲平衡% | C12: 0.3
B13: 下跌平𧗾金 | C13: 600000
B14: 目前市值 | C14: =$I$5 -> 1145006.7
B15: 期間開始 | C15: 45292
B16: 期間結束 | C16: 45657
B17: 期初市值 | C17: 900000
B18: 期間買進 | C18: =-SUMIFS('交易紀錄'!M:M,'交易紀錄'!F:F,E5,'交易紀錄'!E:E,">="&'資產配置'!$C$15,'交易紀錄'!E:E,"<="&'資產配置'!$C$16) -> 143422.55
B19: 期間漲跌 | C19: =C14-C17-C18 -> 101584.15
B20: 再平衡金額 | C20: =IF(C19>0,C19*C12,C13) -> 30475.245

Sheet 交易紀錄
A1: 項目 | C1: 設定值 | E1: 買賣 日期 | F1: 代號 | G1: 類型 | H1: 股數 | I1: 價格 | J1: 交易 總額 | K1: 手續費 | L1: 交易稅 | M1: 交易 淨值
A2: 費率 | B2: 手續費率 | C2: 0.001425 | E2: 43832 | F2: 00662 | G2: 買進 | H2: 336 | I2: 35.7 | J2: =$H2*$I2 -> 11995.2 | K2: =IF($G2="配息",配息轉帳費,ROUNDDOWN($J2*手續費率*手續費折扣,0)) -> 4 | L2: =IF($G2="賣出",ROUNDDOWN(J2*交易稅率,0),0) -> 0 | M2: =IF($G2="買進",-(J2+K2),J2-K2-L2) -> -11999.2
B3: 手續費折扣 | C3: 0.28 | E3: 43864 | F3: 00662 | G3: 買進 | H3: 350 | I3: 34.2 | J3: =$H3*$I3 -> 11970 | K3: =IF($G3="配息",配息轉帳費,ROUNDDOWN($J3*手續費率*手續費折扣,0)) -> 4 | L3: =IF($G3="賣出",ROUNDDOWN(J3*交易稅率,0),0) -> 0 | M3: =IF($G3="買進",-(J3+K3),J3-K3-L3) -> -11974
B4: 交易稅率 | C4: 0.001 | E4: 43892 | F4: 00662 | G4: 買進 | H4: 391 | I4: 30.62 | J4: =$H4*$I4 -> 11972.42 | K4: =IF($G4="配息",配息轉帳費,ROUNDDOWN($J4*手續費率*手續費折扣,0)) -> 4 | L4: =IF($G4="賣出",ROUNDDOWN(J4*交易稅率,0),0) -> 0 | M4: =IF($G4="買進",-(J4+K4),J4-K4-L4) -> -11976.42
B5: 配息轉帳費 | C5: 10 | E5: 43922 | F5: 00662 | G5: 買進 | H5: 344 | I5: 34.83 | J5: =$H5*$I5 -> 11981.52 | K5: =IF($G5="配息",配息轉帳費,ROUNDDOWN($J5*手續費率*手續費折扣,0)) -> 4 | L5: =IF($G5="賣出",ROUNDDOWN(J5*交易稅率,0),0) -> 0 | M5: =IF($G5="買進",-(J5+K5),J5-K5-L5) -> -11985.52
A6: 配置 | B6: 00662 | C6: ='資產配置'!C4 -> 0.4 | E6: 43955 | F6: 00662 | G6: 買進 | H6: 329 | I6: 36.42 | J6: =$H6*$I6 -> 11982.18 | K6: =IF($G6="配息",配息轉帳費,ROUNDDOWN($J6*手續費率*手續費折扣,0)) -> 4 | L6: =IF($G6="賣出",ROUNDDOWN(J6*交易稅率,0),0) -> 0 | M6: =IF($G6="買進",-(J6+K6),J6-K6-L6) -> -11986.18
B7: 00670L | C7: ='資產配置'!C5 -> 0.4 | E7: 43983 | F7: 00662 | G7: 買進 | H7: 316 | I7: 37.96 | J7: =$H7*$I7 -> 11995.36 | K7: =IF($G7="配息",配息轉帳費,ROUNDDOWN($J7*手續費率*手續費折扣,0)) -> 4 | L7: =IF($G7="賣出",ROUNDDOWN(J7*交易稅率,0),0) -> 0 | M7: =IF($G7="買進",-(J7+K7),J7-K7-L7) -> -11999.36
B8: 00865B | C8: ='資產配置'!C6 -> 0.2 | E8: 44013 | F8: 00662 | G8: 買進 | H8: 293 | I8: 40.9 | J8: =$H8*$I8 -> 11983.7 | K8: =IF($G8="配息",配息轉帳費,ROUNDDOWN($J8*手續費率*手續費折扣,0)) -> 4 | L8: =IF($G8="賣出",ROUNDDOWN(J8*交易稅率,0),0) -> 0 | M8: =IF($G8="買進",-(J8+K8),J8-K8-L8) -> -11987.7
B9: Beta | C9: ='資產配置'!C7 -> 1.2 | E9: 44046 | F9: 00662 | G9: 買進 | H9: 262 | I9: 45.72 | J9: =$H9*$I9 -> 11978.64 | K9: =IF($G9="配息",配息轉帳費,ROUNDDOWN($J9*手續費率*手續費折扣,0)) -> 4 | L9: =IF($G9="賣出",ROUNDDOWN(J9*交易稅率,0),0) -> 0 | M9: =IF($G9="買進",-(J9+K9),J9-K9-L9) -> -11982.64
A10: 投入 | B10: 總投入 | C10: =-SUM(M2:M299) -> 1794138.6 | E10: 44075 | F10: 00662 | G10: 買進 | H10: 284 | I10: 42.14 | J10: =$H10*$I10 -> 11967.76 | K10: =IF($G10="配息",配息轉帳費,ROUNDDOWN($J10*手續費率*手續費折扣,0)) -> 4 | L10: =IF($G10="賣出",ROUNDDOWN(J10*交易稅率,0),0) -> 0 | M10: =IF($G10="買進",-(J10+K10),J10-K10-L10) -> -11971.76
B11: 定期金額 | C11: 30000 | E11: 44109 | F11: 00662 | G11: 買進 | H11: 291 | I11: 41.2 | J11: =$H11*$I11 -> 11989.2 | K11: =IF($G11="配息",配息轉帳費,ROUNDDOWN($J11*手續費率*手續費折扣,0)) -> 4 | L11: =IF($G11="賣出",ROUNDDOWN(J11*交易稅率,0),0) -> 0 | M11: =IF($G11="買進",-(J11+K11),J11-K11-L11) -> -11993.2
B12: 投入筆數 | C12: =COUNTIF(H:H,"<>")-1 -> 180 | E12: 44137 | F12: 00662 | G12: 買進 | H12: 267 | I12: 44.88 | J12: =$H12*$I12 -> 11982.96 | K12: =IF($G12="配息",配息轉帳費,ROUNDDOWN($J12*手續費率*手續費折扣,0)) -> 4 | L12: =IF($G12="賣出",ROUNDDOWN(J12*交易稅率,0),0) -> 0 | M12: =IF($G12="買進",-(J12+K12),J12-K12-L12) -> -11986.96
A13: 投資報酬 XIRR | C13: =XIRR(M2:M300,E2:E300) -> 0.1412686 | E13: 44166 | F13: 00662 | G13: 買進 | H13: 258 | I13: 46.43 | J13: =$H13*$I13 -> 11978.94 | K13: =IF($G13="配息",配息轉帳費,ROUNDDOWN($J13*手續費率*手續費折扣,0)) -> 4 | L13: =IF($G13="賣出",ROUNDDOWN(J13*交易稅率,0),0) -> 0 | M13: =IF($G13="買進",-(J13+K13),J13-K13-L13) -> -11982.94
E14: 44200 | F14: 00662 | G14: 買進 | H14: 257 | I14: 46.65 | J14: =$H14*$I14 -> 11989.05 | K14: =IF($G14="配息",配息轉帳費,ROUNDDOWN($J14*手續費率*手續費折扣,0)) -> 4 | L14: =IF($G14="賣出",ROUNDDOWN(J14*交易稅率,0),0) -> 0 | M14: =IF($G14="買進",-(J14+K14),J14-K14-L14) -> -11993.05
E15: 44228 | F15: 00662 | G15: 買進 | H15: 263 | I15: 45.55 | J15: =$H15*$I15 -> 11979.65 | K15: =IF($G15="配息",配息轉帳費,ROUNDDOWN($J15*手續費率*手續費折扣,0)) -> 4 | L15: =IF($G15="賣出",ROUNDDOWN(J15*交易稅率,0),0) -> 0 | M15: =IF($G15="買進",-(J15+K15),J15-K15-L15) -> -11983.65
E16: 44257 | F16: 00662 | G16: 買進 | H16: 253 | I16: 47.32 | J16: =$H16*$I16 -> 11971.96 | K16: =IF($G16="配息",配息轉帳費,ROUNDDOWN($J16*手續費率*手續費折扣,0)) -> 4 | L16: =IF($G16="賣出",ROUNDDOWN(J16*交易稅率,0),0) -> 0 | M16: =IF($G16="買進",-(J16+K16),J16-K16-L16) -> -11975.96
E17: 44287 | F17: 00662 | G17: 買進 | H17: 238 | I17: 50.25 | J17: =$H17*$I17 -> 11959.5 | K17: =IF($G17="配息",配息轉帳費,ROUNDDOWN($J17*手續費率*手續費折扣,0)) -> 4 | L17: =IF($G17="賣出",ROUNDDOWN(J17*交易稅率,0),0) -> 0 | M17: =IF($G17="買進",-(J17+K17),J17-K17-L17) -> -11963.5
E18: 44319 | F18: 00662 | G18: 買進 | H18: 247 | I18: 48.5 | J18: =$H18*$I18 -> 11979.5 | K18: =IF($G18="配息",配息轉帳費,ROUNDDOWN($J18*手續費率*手續費折扣,0)) -> 4 | L18: =IF($G18="賣出",ROUNDDOWN(J18*交易稅率,0),0) -> 0 | M18: =IF($G18="買進",-(J18+K18),J18-K18-L18) -> -11983.5
E19: 44348 | F19: 00662 | G19: 買進 | H19: 229 | I19: 52.3 | J19: =$H19*$I19 -> 11976.7 | K19: =IF($G19="配息",配息轉帳費,ROUNDDOWN($J19*手續費率*手續費折扣,0)) -> 4 | L19: =IF($G19="賣出",ROUNDDOWN(J19*交易稅率,0),0) -> 0 | M19: =IF($G19="買進",-(J19+K19),J19-K19-L19) -> -11980.7
E20: 44378 | F20: 00662 | G20: 買進 | H20: 225 | I20: 53.25 | J20: =$H20*$I20 -> 11981.25 | K20: =IF($G20="配息",配息轉帳費,ROUNDDOWN($J20*手續費率*手續費折扣,0)) -> 4 | L20: =IF($G20="賣出",ROUNDDOWN(J20*交易稅率,0),0) -> 0 | M20: =IF($G20="買進",-(J20+K20),J20-K20-L20) -> -11985.25
E21: 44410 | F21: 00662 | G21: 買進 | H21: 214 | I21: 55.85 | J21: =$H21*$I21 -> 11951.9 | K21: =IF($G21="配息",配息轉帳費,ROUNDDOWN($J21*手續費率*手續費折扣,0)) -> 4 | L21: =IF($G21="賣出",ROUNDDOWN(J21*交易稅率,0),0) -> 0 | M21: =IF($G21="買進",-(J21+K21),J21-K21-L21) -> -11955.9
E22: 44440 | F22: 00662 | G22: 買進 | H22: 224 | I22: 53.45 | J22: =$H22*$I22 -> 11972.8 | K22: =IF($G22="配息",配息轉帳費,ROUNDDOWN($J22*手續費率*手續費折扣,0)) -> 4 | L22: =IF($G22="賣出",ROUNDDOWN(J22*交易稅率,0),0) -> 0 | M22: =IF($G22="買進",-(J22+K22),J22-K22-L22) -> -11976.8
E23: 44470 | F23: 00662 | G23: 買進 | H23: 214 | I23: 55.9 | J23: =$H23*$I23 -> 11962.6 | K23: =IF($G23="配息",配息轉帳費,ROUNDDOWN($J23*手續費率*手續費折扣,0)) -> 4 | L23: =IF($G23="賣出",ROUNDDOWN(J23*交易稅率,0),0) -> 0 | M23: =IF($G23="買進",-(J23+K23),J23-K23-L23) -> -11966.6
E24: 44501 | F24: 00662 | G24: 買進 | H24: 204 | I24: 58.55 | J24: =$H24*$I24 -> 11944.2 | K24: =IF($G24="配息",配息轉帳費,ROUNDDOWN($J24*手續費率*手續費折扣,0)) -> 4 | L24: =IF($G24="賣出",ROUNDDOWN(J24*交易稅率,0),0) -> 0 | M24: =IF($G24="買進",-(J24+K24),J24-K24-L24) -> -11948.2
E25: 44531 | F25: 00662 | G25: 買進 | H25: 204 | I25: 58.8 | J25: =$H25*$I25 -> 11995.2 | K25: =IF($G25="配息",配息轉帳費,ROUNDDOWN($J25*手續費率*手續費折扣,0)) -> 4 | L25: =IF($G25="賣出",ROUNDDOWN(J25*交易稅率,0),0) -> 0 | M25: =IF($G25="買進",-(J25+K25),J25-K25-L25) -> -11999.2
... E181: 45628 | F181: 00865B | G181: 買進 | H181: 126 | I181: 47.27 | J181: =$H181*$I181 -> 5956.02 | K181: =IF($G181="配息",配息轉帳費,ROUNDDOWN($J181*手續費率*手續費折扣,0)) -> 2 | L181: =IF($G181="賣出",ROUNDDOWN(J181*交易稅率,0),0) -> 0 | M181: =IF($G181="買進",-(J181+K181),J181-K181-L181) -> -5958.02
J182: =$H182*$I182 -> 0 | K182: =IF($G182="配息",配息轉帳費,ROUNDDOWN($J182*手續費率*手續費折扣,0)) -> 0 | L182: =IF($G182="賣出",ROUNDDOWN(J182*交易稅率,0),0) -> 0 | M182: =IF($G182="買進",-(J182+K182),J182-K182-L182) -> 0
J183: =$H183*$I183 -> 0 | K183: =IF($G183="配息",配息轉帳費,ROUNDDOWN($J183*手續費率*手續費折扣,0)) -> 0 | L183: =IF($G183="賣出",ROUNDDOWN(J183*交易稅率,0),0) -> 0 | M183: =IF($G183="買進",-(J183+K183),J183-K183-L183) -> 0
J184: =$H184*$I184 -> 0 | K184: =IF($G184="配息",配息轉帳費,ROUNDDOWN($J184*手續費率*手續費折扣,0)) -> 0 | L184: =IF($G184="賣出",ROUNDDOWN(J184*交易稅率,0),0) -> 0 | M184: =IF($G184="買進",-(J184+K184),J184-K184-L184) -> 0
J185: =$H185*$I185 -> 0 | K185: =IF($G185="配息",配息轉帳費,ROUNDDOWN($J185*手續費率*手續費折扣,0)) -> 0 | L185: =IF($G185="賣出",ROUNDDOWN(J185*交易稅率,0),0) -> 0 | M185: =IF($G185="買進",-(J185+K185),J185-K185-L185) -> 0
J186: =$H186*$I186 -> 0 | K186: =IF($G186="配息",配息轉帳費,ROUNDDOWN($J186*手續費率*手續費折扣,0)) -> 0 | L186: =IF($G186="賣出",ROUNDDOWN(J186*交易稅率,0),0) -> 0 | M186: =IF($G186="買進",-(J186+K186),J186-K186-L186) -> 0
J187: =$H187*$I187 -> 0 | K187: =IF($G187="配息",配息轉帳費,ROUNDDOWN($J187*手續費率*手續費折扣,0)) -> 0 | L187: =IF($G187="賣出",ROUNDDOWN(J187*交易稅率,0),0) -> 0 | M187: =IF($G187="買進",-(J187+K187),J187-K187-L187) -> 0
J188: =$H188*$I188 -> 0 | K188: =IF($G188="配息",配息轉帳費,ROUNDDOWN($J188*手續費率*手續費折扣,0)) -> 0 | L188: =IF($G188="賣出",ROUNDDOWN(J188*交易稅率,0),0) -> 0 | M188: =IF($G188="買進",-(J188+K188),J188-K188-L188) -> 0
J189: =$H189*$I189 -> 0 | K189: =IF($G189="配息",配息轉帳費,ROUNDDOWN($J189*手續費率*手續費折扣,0)) -> 0 | L189: =IF($G189="賣出",ROUNDDOWN(J189*交易稅率,0),0) -> 0 | M189: =IF($G189="買進",-(J189+K189),J189-K189-L189) -> 0
J190: =$H190*$I190 -> 0 | K190: =IF($G190="配息",配息轉帳費,ROUNDDOWN($J190*手續費率*手續費折扣,0)) -> 0 | L190: =IF($G190="賣出",ROUNDDOWN(J190*交易稅率,0),0) -> 0 | M190: =IF($G190="買進",-(J190+K190),J190-K190-L190) -> 0
J191: =$H191*$I191 -> 0 | K191: =IF($G191="配息",配息轉帳費,ROUNDDOWN($J191*手續費率*手續費折扣,0)) -> 0 | L191: =IF($G191="賣出",ROUNDDOWN(J191*交易稅率,0),0) -> 0 | M191: =IF($G191="買進",-(J191+K191),J191-K191-L191) -> 0
J192: =$H192*$I192 -> 0 | K192: =IF($G192="配息",配息轉帳費,ROUNDDOWN($J192*手續費率*手續費折扣,0)) -> 0 | L192: =IF($G192="賣出",ROUNDDOWN(J192*交易稅率,0),0) -> 0 | M192: =IF($G192="買進",-(J192+K192),J192-K192-L192) -> 0
J193: =$H193*$I193 -> 0 | K193: =IF($G193="配息",配息轉帳費,ROUNDDOWN($J193*手續費率*手續費折扣,0)) -> 0 | L193: =IF($G193="賣出",ROUNDDOWN(J193*交易稅率,0),0) -> 0 | M193: =IF($G193="買進",-(J193+K193),J193-K193-L193) -> 0
... J299: =$H299*$I299 -> 0 | K299: =IF($G299="配息",配息轉帳費,ROUNDDOWN($J299*手續費率*手續費折扣,0)) -> 0 | L299: =IF($G299="賣出",ROUNDDOWN(J299*交易稅率,0),0) -> 0 | M299: =IF($G299="買進",-(J299+K299),J299-K299-L299) -> 0
E300: =TODAY() -> 45792 | F300: 現值 | M300: ='資產配置'!I1 -> 2684457.6
...

Sheet 再平衡
A1: 項目 | B1: 設定值 | D1: 再平衡 | E1: 漲跌 | F1: 00662 | G1: 00670L | H1: 00865B | I1: 總資金 (萬)
A2: 年生活費 | B2: 60 | D2: 資產配置 | E2: 佔比% | F2: 0.4 | G2: 0.4 | H2: =1-SUM(F2:G2) -> 0.2 | I2: =SUM(F2:H2) -> 1
A3: 上漲年(原型) | B3: 0.1 | E3: 金額 | F3: =F2*$I$3 -> 1200 | G3: =G2*$I$3 -> 1200 | H3: =H2*$I$3 -> 600 | I3: 3000
A4: 下跌年(原型) | B4: -0.1 | E4: 上漲年 | F4: =F5/$I$5 -> 0.38938053 | G4: =G5/$I$5 -> 0.42477876 | H4: =H5/$I$5 -> 0.18584071 | I4: =SUM(F4:H4) -> 1
A5: 上漲年(槓桿) | B5: 0.2 | F5: =F3*(1+B3) -> 1320 | G5: =G3*(1+B5) -> 1440 | H5: =H3*(1+B7) -> 630 | I5: =SUM(F5:H5) -> 3390
A6: 下跌年(槓桿) | B6: -0.2 | E6: 下跌年 | F6: =F7/$I$7 -> 0.40909091 | G6: =G7/$I$7 -> 0.36363636 | H6: =H7/$I$7 -> 0.22727273 | I6: =SUM(F6:H6) -> 1
A7: 上漲年(類現金) | B7: 0.05 | F7: =F3*(1+B4) -> 1080 | G7: =G3*(1+B6) -> 960 | H7: =H3*(1+B8) -> 600 | I7: =SUM(F7:H7) -> 2640
A8: 下跌年(類現金) | B8: 0 | D8: 1-聰明再平衡 | E8: 上漲年 | F8: =F5 -> 1320 | G8: =G5-(G5-G3)*$B$9 -> 1368 | H8: =H5+(G5-G3)*$B$9 -> 702 | I8: =SUM(F8:H8) -> 3390
A9: 再平衡% | B9: 0.3 | E9: 下跌年 | F9: =F7 -> 1080 | G9: =G7+B2 -> 1020 | H9: =H7-B2 -> 540 | I9: =SUM(F9:H9) -> 2640
A10: 小資金 | B10: 3 | D10: 2-無腦再平衡 | E10: 上漲年 | F10: =F5 -> 1320 | G10: =(G5+H5)*G2/(G2+H2) -> 1380 | H10: =(G5+H5)*H2/(G2+H2) -> 690 | I10: =SUM(F10:H10) -> 3390
A11: 大資金(信貸) | B11: 300 | E11: 下跌年 | F11: =F7 -> 1080 | G11: =(G7+H7)*G2/(G2+H2) -> 1040 | H11: =(G7+H7)*H2/(G2+H2) -> 520 | I11: =SUM(F11:H11) -> 2640
D12: 3-比率再平衡 | E12: 上漲年 | F12: =SUM($F$5:$H$5)*F$2 -> 1356 | G12: =SUM($F$5:$H$5)*G$2 -> 1356 | H12: =SUM($F$5:$H$5)*H$2 -> 678 | I12: =SUM(F12:H12) -> 3390
E13: 下跌年 | F13: =SUM($F$7:$H$7)*F$2 -> 1056 | G13: =SUM($F$7:$H$7)*G$2 -> 1056 | H13: =SUM($F$7:$H$7)*H$2 -> 528 | I13: =SUM(F13:H13) -> 2640
D14: 4-動態再平衡 | E14: 上漲年 | F14: =F5 -> 1320 | G14: =G5 -> 1440 | H14: =H5+B10 -> 633 | I14: =SUM(F14:H14) -> 3393
E15: 下跌年 | F15: =F7 -> 1080 | G15: =G7+B10 -> 963 | H15: =H7 -> 600 | I15: =SUM(F15:H15) -> 2643
D16: 5-大筆資金投入 | E16: 上漲年 | F16: =($I$5+$B$11)*F$2 -> 1476 | G16: =($I$5+$B$11)*G$2 -> 1476 | H16: =($I$5+$B$11)*H$2 -> 738 | I16: =SUM(F16:H16) -> 3690
E17: 下跌年 | F17: =($I$7+$B$11)*F$2 -> 1176 | G17: =($I$7+$B$11)*G$2 -> 1176 | H17: =($I$7+$B$11)*H$2 -> 588 | I17: =SUM(F17:H17) -> 2940

Sheet 股價
A1: 年化% | B1: =(B62/B3)^(1/5)-1 -> 0.2015279 | C1: =(C62/C3)^(1/5)-1 -> 0.22777463 | D1: =(D62/D3)^(1/5)-1 -> 0.036096055
A2: 日期 | B2: 00662 | C2: 00670L | D2: 00865B
A3: 43832 | B3: 35.7 | C3: 48.46 | D3: 39.59
A4: 43864 | B4: 34.2 | C4: 43.19 | D4: 39.79
A5: 43892 | B5: 30.62 | C5: 32.57 | D5: 39.84
A6: 43922 | B6: 34.83 | C6: 43.18 | D6: 39.3
A7: 43955 | B7: 36.42 | C7: 46.21 | D7: 39.6
A8: 43983 | B8: 37.96 | C8: 51.6 | D8: 38.99
A9: 44013 | B9: 40.9 | C9: 60.25 | D9: 38.7
A10: 44046 | B10: 45.72 | C10: 74.2 | D10: 38.75
A11: 44075 | B11: 42.14 | C11: 64.1 | D11: 38.2
A12: 44109 | B12: 41.2 | C12: 62 | D12: 37.74
A13: 44137 | B13: 44.88 | C13: 74.15 | D13: 37.6
A14: 44166 | B14: 46.43 | C14: 81.65 | D14: 36.87
... A62: 45628 | B62: 89.4 | C62: 135.2 | D62: 47.27

Sheet 操作說明
A1: 項目 | B1: 說明
A2: 功能說明 | B2: 1. 定期或不定期有收入持續買進，讓資產配置(BETA)盡可能接近預期風險。
B3: 2. 平日調節有助於「逢低加碼」的效果及年度再平衡的進出損耗。
B4: 3. 依據年度進行「無腦再平衡」，增減股數及金額調節資產配置。
A5: 適用對象 | B5: 1. 信仰「大道至簡投資法」的富有投資人。
B6: 2. 定期或不定期有收入可持續買進的投資人。
B7: 3. 以投資組合 00662、00670L、00865B為資產配置的投資人。
B8: 4. 年度進行資產配置再平衡的投資人。
A9: 操作說明 | B9: 0.本表格只需調整黃底欄位，粉紅底欄位為系統自行計算。
B10: 1. 先設定預期的資產(00662、00670L、00865B)配置比 => 計算出 BETA。
B11: 2. 選擇「投入方式」及「投入金額」：
B12: 1. 投入原型(00662)、2. 投入差異大的項目(逢低加碼)、3.再平衡(無需輸入「投入金額」)。
B13: 再平衡：使用無腦再平衡→(槓桿+類現金)/2，忽略「投入金額」的數值。
B14: => 經「大道至簡投資法-試算表」的驗證使用「無䐉再平衡」是最佳方案，「聰明再平衡」中的調整比率無法控制(因影響因子很多，且過去資訊不代表未來)，要考慮漲跌年的狀況非常複雜，重要的是得不到更好的效果(參考作者文件 的分析說明)，所以強烈建議回到「大道至簡投資法」，使用「無腦再平衡」。
B15: 3. 將資金投入(或轉換)建議股數的配置標的，讓整體資產配置比接近預期的配置風險。
B16: 4. 將交易的資訊記錄於「交易紀錄」中，調整目前的資產配置。
B17: 5. 重複2~4步驟完成「持續買進與再平衡」。
